BEGIN:VCALENDAR
VERSION:2.0
PRODID:http://www.saarlouis-heilige-familie.de
BEGIN:VEVENT
UID:8331a71d-0312-11f1-8342-0242ac11002b-1778947200000-de
DTSTAMP:20260206T041547Z
DTSTART:20260516T160000Z
DTEND:20260516T165500Z
SUMMARY;LANGUAGE=de: Eucharistiefeier am Sonntagvorabend mit Erwachsenenfirmungen
END:VEVENT
END:VCALENDAR
